BEGIN:VCALENDAR
VERSION:2.0
PRODID:-//Integral Yoga Institute - New York - ECPv6.15.20//NONSGML v1.0//EN
CALSCALE:GREGORIAN
METHOD:PUBLISH
X-ORIGINAL-URL:https://iyiny.org
X-WR-CALDESC:Events for Integral Yoga Institute - New York
REFRESH-INTERVAL;VALUE=DURATION:PT1H
X-Robots-Tag:noindex
X-PUBLISHED-TTL:PT1H
BEGIN:VTIMEZONE
TZID:America/New_York
BEGIN:DAYLIGHT
TZOFFSETFROM:-0500
TZOFFSETTO:-0400
TZNAME:EDT
DTSTART:20240310T070000
END:DAYLIGHT
BEGIN:STANDARD
TZOFFSETFROM:-0400
TZOFFSETTO:-0500
TZNAME:EST
DTSTART:20241103T060000
END:STANDARD
BEGIN:DAYLIGHT
TZOFFSETFROM:-0500
TZOFFSETTO:-0400
TZNAME:EDT
DTSTART:20250309T070000
END:DAYLIGHT
BEGIN:STANDARD
TZOFFSETFROM:-0400
TZOFFSETTO:-0500
TZNAME:EST
DTSTART:20251102T060000
END:STANDARD
BEGIN:DAYLIGHT
TZOFFSETFROM:-0500
TZOFFSETTO:-0400
TZNAME:EDT
DTSTART:20260308T070000
END:DAYLIGHT
BEGIN:STANDARD
TZOFFSETFROM:-0400
TZOFFSETTO:-0500
TZNAME:EST
DTSTART:20261101T060000
END:STANDARD
BEGIN:DAYLIGHT
TZOFFSETFROM:-0500
TZOFFSETTO:-0400
TZNAME:EDT
DTSTART:20270314T070000
END:DAYLIGHT
BEGIN:STANDARD
TZOFFSETFROM:-0400
TZOFFSETTO:-0500
TZNAME:EST
DTSTART:20271107T060000
END:STANDARD
END:VTIMEZONE
BEGIN:VEVENT
DTSTART;TZID=America/New_York:20251231T193000
DTEND;TZID=America/New_York:20260101T001500
DTSTAMP:20260421T084243
CREATED:20251212T193051Z
LAST-MODIFIED:20251228T163909Z
UID:30000224-1767209400-1767226500@iyiny.org
SUMMARY:New Year's Celebration
DESCRIPTION:For decades\, New Year’s Eve at Integral Yoga has been a celebration of life and hope with wonderful food\, chanting\, sound bath\, dancing\, an uplifting message\, and the beautiful sense of togetherness that is the hallmark of IYI. We invite our greater community of teachers\, students and staff to join us in this joyous New Year’s party that will set the tone for the amazing year to come. \nCome together for a sparkling apple cider toast\, raising glasses in a collective celebration of new beginnings and the promise of a brighter year ahead. This New Year’s Eve service offers a holistic and uplifting experience\, blending spirituality\, joy\, and reflection as we usher in the dawn of a fresh chapter. \n\n7:30 Welcome by host: Sumati\, Ice-breaker: 3 minutes to meet someone new\n8:00 Vegetarian Dinner\n9:15 Kirtan\n9:50 Gong bath\n10:25 Dancing\n11:10 New Year’s message and reflection exercise\n11:45 Mantras for world peace\n11:55 Meditation\n12:02 “Champagne” to Auld Lang Syne\n\n**This is an in-person event\, taking place at Integral Yoga Institute.
URL:https://iyiny.org/event/new-years-celebration/
LOCATION:Integral Yoga Institute New York\, 227 West 13th Street New York\, New York\, NY\, 10011\, United States
CATEGORIES:Community,Workshop
ATTACH;FMTTYPE=image/jpeg:https://iyiny.org/wp-content/uploads/2025/12/New-Years-Celebration.jpg
ORGANIZER;CN="Integral Yoga Institute New York":MAILTO:info@iyiny.org
END:VEVENT
BEGIN:VEVENT
DTSTART;VALUE=DATE:20260103
DTEND;VALUE=DATE:20260111
DTSTAMP:20260421T084244
CREATED:20250924T172143Z
LAST-MODIFIED:20250924T172703Z
UID:30000196-1767398400-1768089599@iyiny.org
SUMMARY:Renew Your Spirit – A Transformative Vacation in Lake Atitlan\, Guatemala
DESCRIPTION:Join us for a Yoga vacation in Guatemala and watch your workday blues vanish into thin air.  Discover the breathtaking vistas of cobalt-blue Lake Atitlan uniquely surrounded by some of Guatemala’s largest volcanoes. \nStart the new year by giving a boost to your spirit! We all need an occasional break to restore and refresh our body\, mind and spirit – especially now with the world in such an unsettled state. \nThis will be a rare experience with our two senior swamis\, Swami Asokananda and Swami Ramananda\, along with Ram Wiener\, guiding the week’s experience. \nYou will stay at a beautiful hotel and retreat center\, Villa Sumaya\, situated on the picturesque shore of Lake Atitlan. It has an uninterrupted vista\, punctuated only by a skyline of three perfect volcanoes. Here\, you can relax and experience an ideal place for people in search of rest\, reflection\, good company\, and ageless natural beauty. This beautiful retreat complex has very comfortable rooms and bungalows\, lovely gardens\, a restaurant\, and stunning locations to practice our meditation\, hatha yoga\, and spiritual study. \nThe restaurant\, with a stunning view of the lake\, offers a culinary-conscious menu for vegetarians. A nutritious\, eclectic blend of local and international cuisine\, created from Guatemala’s cornucopia of fruits and vegetables\, is available three times a day. Baked goods are produced daily. \n\nOur daily schedule will include:\n\nMeditations\nTwo Hatha Yoga classes per day\nPresentations from our featured senior presenters\nPlenty of free time to swim\, sunbathe\, go for walks\, simply relax\, and get to know your fellow travelers\n\nWe will also plan some trips outside of Lake Atitlan for those interested. \nParticipants on this Integral Yoga vacation are expected to follow a vegetarian diet. Alcohol\, smoking\, and recreational drugs are not permitted. \nTentative Daily Schedule\n\n6:10 – 6:50 am Meditation\n7:00 – 8:30 am Hatha Yoga\n8:40 – 9:30 am Breakfast\n9:30 am – 3 pm     Excursion\, ceremonies\, swimming\, sunbathing\, walks\, massages\, etc.\n12:15 – 12:45 pm Meditation\n1:00 – 1:50 pm Lunch\n3:15-4:00 pm Afternoon Program\n4:15 – 6:00 pm Hatha Yoga leading into Meditation\n6:30 – 7:20 pm       Dinner\n7:45 – 9:10 pm       Evening Program\n\nCosts\nThe cost of the program is $1835 per person for triple accommodations\, $1950 per person for double accommodations\, and $2470 for single accommodations. This includes accommodations for seven nights\, 3 daily vegetarian meals\, meditations\, hatha yoga classes\, evening talks\, and hotel taxes. It does not include air transportation\, transportation to and from the airport to the hotel\, special excursions outside the hotel\, and tips. \nIf we receive full payment by October 3\, 2025. You may deduct $100 from the total amount. \nCancellations: No refunds are possible after December 1\, 2025 \nAirport\nAlmost all major airlines fly to Guatemala . You would fly into Guatemala City\, Guatemala airport. You need a valid passport to enter the country. No visa needed for US citizens.  We coordinate all shuttle and boat bookings for all participants’\, arrivals and departures from the airport\, with an excellent shuttle company called Kan Tours. \nReservations\nPlease fill out a registration form and submit a $500 non-refundable deposit by October 24\, 2025. Final payment is due by October 30\, 2025. \n\nTestimonials\nOne of the best vacations ever. The quality and organization of outings were excellent; hotel\, food\, classes\, and evening programs were top notch! An outstanding week. — Past Participant \nGrateful to share this beautiful experience in the company of blessed yogis. — May C. \nSwami Asokananda is so knowledgeable and willing to share with honesty. It’s always a pleasure to hear him speak. — Devi Peterson \nIt was a privilege to have spent time with Swami Ramananda and receive his heartfelt teachings and experience. He always shows up so authentically\, humbly\, and with humor. — Maria \nRam has great knowledge\, understanding and is very supportive. Very motivating and positive person. Makes things very simple and easy to understand. Thank you. — Shoba
URL:https://iyiny.org/event/renew-your-spirit-a-transformative-vacation-in-lake-atitlan-guatemala/
LOCATION:Guatemala\, Guatemala
CATEGORIES:Vacation
ATTACH;FMTTYPE=image/jpeg:https://iyiny.org/wp-content/uploads/2025/09/Renew-Your-Spirit-A-Transformative-Vacation-in-Lake-Atitlan-Guatemala2.jpg
ORGANIZER;CN="Satchidananda Ashram-Yogaville":MAILTO:arc@yogaville.org
END:VEVENT
BEGIN:VEVENT
DTSTART;TZID=America/New_York:20260107T184500
DTEND;TZID=America/New_York:20260107T194500
DTSTAMP:20260421T084244
CREATED:20251230T172113Z
LAST-MODIFIED:20251230T172141Z
UID:30000227-1767811500-1767815100@iyiny.org
SUMMARY:Info Session for 200-Hour Teacher Training
DESCRIPTION:Choosing the right 200-hour Teacher Training is important\, it is a personal investment in your path to inner peace. We invite you to join us for a free Information Session and find out if Integral Yoga Teacher Training is right for you. \nIntegral Yoga Institute is one of the most respected schools of Yoga training in the world—we’ve been certifying teachers for over 40 years. Countless lives have been transformed through our time-tested and proven method of teacher training. Rooted in the tradition of classical Yoga\, we apply a modern approach for contemporary times. \nDuring the Info Session\, you’ll discover what makes Integral Yoga Teacher Training so special\, including our highly personalized approach to teaching that ensures you receive individual attention throughout your training. You’ll have the opportunity to meet our trainers and learn more about their extensive teaching experience. We’d also love to meet you and welcome you to bring any questions you may have about the program to this informal open session. \nWhat our graduates are saying…\n“I had a wonderful experience in teacher training. Jayadevi and Sri did a remarkable job of instructing a comprehensive and rigorous course while also creating a collaborative and supportive environment. I am so grateful to have been able to take this course with these instructors\, it was a life-changing and beautiful experience I will never forget!”  – Maeve \n“Jayadevi and Sri were absolutely excellent instructors. They provided the necessary tools and knowledge to deepen our personal practice and harness an ability to share our practice with others. The feedback I received was always authentic and helped refine my understanding…I will be forever grateful for their encouragement and dedication to me and my classmates.”  – Alonzo \n“This course was very helpful for me\, not only in my journey as a teacher but in my personal life – I felt as if the instructors were really paying attention to me and like my success was important. I feel blessed to have been able to go through this experience and I am very grateful.”  – Dawn \n“Every detail was superbly planned and woven together to create a comprehensive course. It pushed me to think more critically about what it means to be a teacher and highlighted what I want to embody and bring to my classes. My understanding of the asana is much more nuanced and I hold so many fun facts in my back pocket now!”  – Emmie \n“There is so much gratitude I have for the teaching and wisdom that I’ve received over the past several months\, that I can’t fit it all in! I always felt very included and seen\, accommodated and yet not babied as a student; held and yet challenged. Thank you and I hope to learn more from you some day!” – Jules
URL:https://iyiny.org/event/info-session-for-200-hour-teacher-training-2/
LOCATION:Virtual Online
CATEGORIES:200-Hour Training,Teacher Training,Workshop
ATTACH;FMTTYPE=image/jpeg:https://iyiny.org/wp-content/uploads/2024/05/IY-Teacher-Training.jpg
ORGANIZER;CN="Integral Yoga Institute New York":MAILTO:info@iyiny.org
END:VEVENT
BEGIN:VEVENT
DTSTART;TZID=America/New_York:20260114T190000
DTEND;TZID=America/New_York:20260114T200000
DTSTAMP:20260421T084244
CREATED:20260106T001242Z
LAST-MODIFIED:20260106T001316Z
UID:30000229-1768417200-1768420800@iyiny.org
SUMMARY:The Bhagavad Gita in Daily Life
DESCRIPTION:The Bhagavad Gita\, a foundational scripture of Yoga\, provides guidance for facing the everyday challenges of modern life. Its message is that Self-realization is achieved through skillful living in the world\, not by retreating from it. We will draw from the Gita practical lessons of how our current challenges can be leveraged to unleash our inner strength and cultivate clarity and peace. \nWhether you’re new to the Gita or returning with fresh eyes\, this group offers a welcoming space to deepen your relationship with yogic wisdom and discover how its timeless guidance can help you live with more purpose\, peace\, and strength. \nSwami Asokananda draws from years of dedicated practice and personal experience to make this ancient scripture accessible\, relevant\, and transformational. \nMahatma Gandhi: “When doubts haunt me\, when disappointments stare me in the face\, and I see not one ray of hope on the horizon\, I turn to the Bhagavad Gita and find a verse to comfort me; and I immediately begin to smile in the midst of overwhelming sorrow. Those who meditate on the Gita will derive fresh joy and new meaning from it every day. \n** This is 4-week hybrid series (taking place both online and in-person)\, running from November 5-26. Join one session or join all! (Each week requires separate registration.)**
URL:https://iyiny.org/event/the-bhagavad-gita-in-daily-life-january-14-2026/
LOCATION:Integral Yoga Institute New York\, 227 West 13th Street New York\, New York\, NY\, 10011\, United States
CATEGORIES:Scripture Study,Workshop
ATTACH;FMTTYPE=image/jpeg:https://iyiny.org/wp-content/uploads/2025/05/The-Bhagavad-Gita-in-Daily-Life.jpg
ORGANIZER;CN="Integral Yoga Institute New York":MAILTO:info@iyiny.org
END:VEVENT
BEGIN:VEVENT
DTSTART;TZID=America/New_York:20260121T190000
DTEND;TZID=America/New_York:20260121T200000
DTSTAMP:20260421T084244
CREATED:20260106T001342Z
LAST-MODIFIED:20260106T001427Z
UID:30000230-1769022000-1769025600@iyiny.org
SUMMARY:The Bhagavad Gita in Daily Life
DESCRIPTION:The Bhagavad Gita\, a foundational scripture of Yoga\, provides guidance for facing the everyday challenges of modern life. Its message is that Self-realization is achieved through skillful living in the world\, not by retreating from it. We will draw from the Gita practical lessons of how our current challenges can be leveraged to unleash our inner strength and cultivate clarity and peace. \nWhether you’re new to the Gita or returning with fresh eyes\, this group offers a welcoming space to deepen your relationship with yogic wisdom and discover how its timeless guidance can help you live with more purpose\, peace\, and strength. \nSwami Asokananda draws from years of dedicated practice and personal experience to make this ancient scripture accessible\, relevant\, and transformational. \nMahatma Gandhi: “When doubts haunt me\, when disappointments stare me in the face\, and I see not one ray of hope on the horizon\, I turn to the Bhagavad Gita and find a verse to comfort me; and I immediately begin to smile in the midst of overwhelming sorrow. Those who meditate on the Gita will derive fresh joy and new meaning from it every day. \n** This is 4-week hybrid series (taking place both online and in-person)\, running from November 5-26. Join one session or join all! (Each week requires separate registration.)**
URL:https://iyiny.org/event/the-bhagavad-gita-in-daily-life-january-21-2026/
LOCATION:Integral Yoga Institute New York\, 227 West 13th Street New York\, New York\, NY\, 10011\, United States
CATEGORIES:Scripture Study,Workshop
ATTACH;FMTTYPE=image/jpeg:https://iyiny.org/wp-content/uploads/2025/05/The-Bhagavad-Gita-in-Daily-Life.jpg
ORGANIZER;CN="Integral Yoga Institute New York":MAILTO:info@iyiny.org
END:VEVENT
BEGIN:VEVENT
DTSTART;TZID=America/New_York:20260128T190000
DTEND;TZID=America/New_York:20260128T200000
DTSTAMP:20260421T084244
CREATED:20260106T001419Z
LAST-MODIFIED:20260106T001419Z
UID:30000231-1769626800-1769630400@iyiny.org
SUMMARY:The Bhagavad Gita in Daily Life
DESCRIPTION:The Bhagavad Gita\, a foundational scripture of Yoga\, provides guidance for facing the everyday challenges of modern life. Its message is that Self-realization is achieved through skillful living in the world\, not by retreating from it. We will draw from the Gita practical lessons of how our current challenges can be leveraged to unleash our inner strength and cultivate clarity and peace. \nWhether you’re new to the Gita or returning with fresh eyes\, this group offers a welcoming space to deepen your relationship with yogic wisdom and discover how its timeless guidance can help you live with more purpose\, peace\, and strength. \nSwami Asokananda draws from years of dedicated practice and personal experience to make this ancient scripture accessible\, relevant\, and transformational. \nMahatma Gandhi: “When doubts haunt me\, when disappointments stare me in the face\, and I see not one ray of hope on the horizon\, I turn to the Bhagavad Gita and find a verse to comfort me; and I immediately begin to smile in the midst of overwhelming sorrow. Those who meditate on the Gita will derive fresh joy and new meaning from it every day. \n** This is 4-week hybrid series (taking place both online and in-person)\, running from November 5-26. Join one session or join all! (Each week requires separate registration.)**
URL:https://iyiny.org/event/the-bhagavad-gita-in-daily-life-january-28-2026/
LOCATION:Integral Yoga Institute New York\, 227 West 13th Street New York\, New York\, NY\, 10011\, United States
CATEGORIES:Scripture Study,Workshop
ATTACH;FMTTYPE=image/jpeg:https://iyiny.org/wp-content/uploads/2025/05/The-Bhagavad-Gita-in-Daily-Life.jpg
ORGANIZER;CN="Integral Yoga Institute New York":MAILTO:info@iyiny.org
END:VEVENT
END:VCALENDAR