BEGIN:VCALENDAR
VERSION:2.0
PRODID:-//Integral Yoga Institute - New York - ECPv6.15.20//NONSGML v1.0//EN
CALSCALE:GREGORIAN
METHOD:PUBLISH
X-ORIGINAL-URL:https://iyiny.org
X-WR-CALDESC:Events for Integral Yoga Institute - New York
REFRESH-INTERVAL;VALUE=DURATION:PT1H
X-Robots-Tag:noindex
X-PUBLISHED-TTL:PT1H
BEGIN:VTIMEZONE
TZID:America/New_York
BEGIN:DAYLIGHT
TZOFFSETFROM:-0500
TZOFFSETTO:-0400
TZNAME:EDT
DTSTART:20240310T070000
END:DAYLIGHT
BEGIN:STANDARD
TZOFFSETFROM:-0400
TZOFFSETTO:-0500
TZNAME:EST
DTSTART:20241103T060000
END:STANDARD
BEGIN:DAYLIGHT
TZOFFSETFROM:-0500
TZOFFSETTO:-0400
TZNAME:EDT
DTSTART:20250309T070000
END:DAYLIGHT
BEGIN:STANDARD
TZOFFSETFROM:-0400
TZOFFSETTO:-0500
TZNAME:EST
DTSTART:20251102T060000
END:STANDARD
BEGIN:DAYLIGHT
TZOFFSETFROM:-0500
TZOFFSETTO:-0400
TZNAME:EDT
DTSTART:20260308T070000
END:DAYLIGHT
BEGIN:STANDARD
TZOFFSETFROM:-0400
TZOFFSETTO:-0500
TZNAME:EST
DTSTART:20261101T060000
END:STANDARD
END:VTIMEZONE
BEGIN:VEVENT
DTSTART;TZID=America/New_York:20250322T100000
DTEND;TZID=America/New_York:20250330T180000
DTSTAMP:20260422T062958
CREATED:20250118T075412Z
LAST-MODIFIED:20250317T221222Z
UID:30000017-1742637600-1743357600@iyiny.org
SUMMARY:Lotus Palm Thai Yoga Massage 1: 4-Day Intensive
DESCRIPTION:Saturdays and Sundays\, March 22–23 and 29–30\n10 a.m.–6 p.m. \nThe 4-Day Intensive is the first step toward the certification program in this healing art. You will learn a complete\, full-body\, one-and-a-half-hour massage; the training and knowledge to give a Thai Yoga Massage; the fundamentals of effortless\, flowing transitions between postures; and the history and philosophy of Thai Yoga Massage energy balance through acupressure and Thai energy lines. \nRequired reading: The Essential Guide: Achieving Success in Business and Thai Yoga Massage\, by Kam Thye Chow and Sukha Wong (Lotus Palm) available at the Integral Yoga Shop for $49.95 \nRecommended reading: Thai Yoga Massage\, by Kam Thye Chow (Inner Traditions) available at the Integral Yoga Shop for $24.95 \nParticipants can apply the workshop hours towards C.E.U.’s and/or Yoga Alliance teacher credits. \nFor full certification details and costs and information about continuing education:\ncredits\, please visit lotuspalm.com
URL:https://iyiny.org/event/lotus-palm-thai-yoga-massage-1-4-day-intensive/
LOCATION:Integral Yoga Institute New York\, 227 West 13th Street New York\, New York\, NY\, 10011\, United States
CATEGORIES:Multi-Day Course,Thai Yoga Massage
ATTACH;FMTTYPE=image/jpeg:https://iyiny.org/wp-content/uploads/2025/01/lotus-palm-thai-massage.jpg
END:VEVENT
BEGIN:VEVENT
DTSTART;TZID=America/New_York:20250225T183000
DTEND;TZID=America/New_York:20250225T203000
DTSTAMP:20260422T062958
CREATED:20250118T074646Z
LAST-MODIFIED:20250223T144121Z
UID:30000016-1740508200-1740515400@iyiny.org
SUMMARY:Introduction to Thai Yoga Massage: Learn to Give a 20-Minute Massage
DESCRIPTION:Learn about Lotus Palm Thai Yoga Massage and see whether you are interested in pursuing certification as a practitioner. The workshop includes a hands-on opportunity to learn how to give a 20-minute massage by practicing Thai Yoga Massage postures and incorporating the fundamentals of effortless\, flowing transitions between poses. You’ll discover the essentials of maintaining proper body alignment and stances to create a mutually beneficial massage for both participants. Please wear a long-sleeved shirt and long\, loose pants. www.lotuspalm.com
URL:https://iyiny.org/event/introduction-to-thai-yoga-massage-learn-to-give-a-20-minute-massage-2/
LOCATION:Integral Yoga Institute New York\, 227 West 13th Street New York\, New York\, NY\, 10011\, United States
CATEGORIES:Thai Yoga Massage,Workshop
ATTACH;FMTTYPE=image/jpeg:https://iyiny.org/wp-content/uploads/2024/04/Thai-Level-1_a-LR-Cropped-2.jpg
END:VEVENT
BEGIN:VEVENT
DTSTART;TZID=America/New_York:20250125T083000
DTEND;TZID=America/New_York:20250125T103000
DTSTAMP:20260422T062958
CREATED:20250118T074547Z
LAST-MODIFIED:20250223T143918Z
UID:30000015-1737793800-1737801000@iyiny.org
SUMMARY:Introduction to Thai Yoga Massage: Learn to Give a 20-Minute Massage
DESCRIPTION:Learn about Lotus Palm Thai Yoga Massage and see whether you are interested in pursuing certification as a practitioner. The workshop includes a hands-on opportunity to learn how to give a 20-minute massage by practicing Thai Yoga Massage postures and incorporating the fundamentals of effortless\, flowing transitions between poses. You’ll discover the essentials of maintaining proper body alignment and stances to create a mutually beneficial massage for both participants. Please wear a long-sleeved shirt and long\, loose pants. www.lotuspalm.com
URL:https://iyiny.org/event/introduction-to-thai-yoga-massage-learn-to-give-a-20-minute-massage/
LOCATION:Integral Yoga Institute New York\, 227 West 13th Street New York\, New York\, NY\, 10011\, United States
CATEGORIES:Thai Yoga Massage,Workshop
ATTACH;FMTTYPE=image/jpeg:https://iyiny.org/wp-content/uploads/2024/04/Thai-Level-1_a-LR-Cropped-2.jpg
END:VEVENT
END:VCALENDAR