BEGIN:VCALENDAR
VERSION:2.0
PRODID:-//Integral Yoga Institute - New York - ECPv6.15.20//NONSGML v1.0//EN
CALSCALE:GREGORIAN
METHOD:PUBLISH
X-WR-CALNAME:Integral Yoga Institute - New York
X-ORIGINAL-URL:https://iyiny.org
X-WR-CALDESC:Events for Integral Yoga Institute - New York
REFRESH-INTERVAL;VALUE=DURATION:PT1H
X-Robots-Tag:noindex
X-PUBLISHED-TTL:PT1H
BEGIN:VTIMEZONE
TZID:America/New_York
BEGIN:DAYLIGHT
TZOFFSETFROM:-0500
TZOFFSETTO:-0400
TZNAME:EDT
DTSTART:20240310T070000
END:DAYLIGHT
BEGIN:STANDARD
TZOFFSETFROM:-0400
TZOFFSETTO:-0500
TZNAME:EST
DTSTART:20241103T060000
END:STANDARD
BEGIN:DAYLIGHT
TZOFFSETFROM:-0500
TZOFFSETTO:-0400
TZNAME:EDT
DTSTART:20250309T070000
END:DAYLIGHT
BEGIN:STANDARD
TZOFFSETFROM:-0400
TZOFFSETTO:-0500
TZNAME:EST
DTSTART:20251102T060000
END:STANDARD
BEGIN:DAYLIGHT
TZOFFSETFROM:-0500
TZOFFSETTO:-0400
TZNAME:EDT
DTSTART:20260308T070000
END:DAYLIGHT
BEGIN:STANDARD
TZOFFSETFROM:-0400
TZOFFSETTO:-0500
TZNAME:EST
DTSTART:20261101T060000
END:STANDARD
END:VTIMEZONE
BEGIN:VEVENT
DTSTART;TZID=America/New_York:20250426T173000
DTEND;TZID=America/New_York:20250426T183000
DTSTAMP:20260421T084555
CREATED:20250131T170237Z
LAST-MODIFIED:20250224T040550Z
UID:20708179-1745688600-1745692200@iyiny.org
SUMMARY:When the Going Gets Tough: Yoga for Difficult Times
DESCRIPTION:We live in an age characterized by an increasing sense of uncertainty. We are exposed daily to a world in crisis\, from natural disasters to political upheaval\, from tremendous violence to widespread injustice. Maintaining our well-being\, living by spiritual values and finding genuine fulfillment can seem impossible when surrounded by a workaholic culture\, rampant with greed\, deception\, and “image is everything” messages. \nSwami Ramananda will present the distilled wisdom of the Yoga teachings as practical principles essential for building immunity and resilience\, and creating a fulfilling life. Together we will reflect on how to empower ourselves and how a spiritual practice attunes our hearts and minds to the spiritual consciousness we share.
URL:https://iyiny.org/event/when-the-going-gets-tough-yoga-for-difficult-times/
LOCATION:Integral Yoga Institute New York\, 227 West 13th Street New York\, New York\, NY\, 10011\, United States
CATEGORIES:Workshop,Yoga
ATTACH;FMTTYPE=image/jpeg:https://iyiny.org/wp-content/uploads/2025/01/When-the-Going-Gets-Tough-Yoga-for-Difficult-Times.jpg
END:VEVENT
END:VCALENDAR