BEGIN:VCALENDAR
VERSION:2.0
PRODID:-//Integral Yoga Institute - New York - ECPv6.15.20//NONSGML v1.0//EN
CALSCALE:GREGORIAN
METHOD:PUBLISH
X-WR-CALNAME:Integral Yoga Institute - New York
X-ORIGINAL-URL:https://iyiny.org
X-WR-CALDESC:Events for Integral Yoga Institute - New York
REFRESH-INTERVAL;VALUE=DURATION:PT1H
X-Robots-Tag:noindex
X-PUBLISHED-TTL:PT1H
BEGIN:VTIMEZONE
TZID:America/New_York
BEGIN:DAYLIGHT
TZOFFSETFROM:-0500
TZOFFSETTO:-0400
TZNAME:EDT
DTSTART:20240310T070000
END:DAYLIGHT
BEGIN:STANDARD
TZOFFSETFROM:-0400
TZOFFSETTO:-0500
TZNAME:EST
DTSTART:20241103T060000
END:STANDARD
BEGIN:DAYLIGHT
TZOFFSETFROM:-0500
TZOFFSETTO:-0400
TZNAME:EDT
DTSTART:20250309T070000
END:DAYLIGHT
BEGIN:STANDARD
TZOFFSETFROM:-0400
TZOFFSETTO:-0500
TZNAME:EST
DTSTART:20251102T060000
END:STANDARD
BEGIN:DAYLIGHT
TZOFFSETFROM:-0500
TZOFFSETTO:-0400
TZNAME:EDT
DTSTART:20260308T070000
END:DAYLIGHT
BEGIN:STANDARD
TZOFFSETFROM:-0400
TZOFFSETTO:-0500
TZNAME:EST
DTSTART:20261101T060000
END:STANDARD
END:VTIMEZONE
BEGIN:VEVENT
DTSTART;TZID=America/New_York:20250208T113000
DTEND;TZID=America/New_York:20250208T130000
DTSTAMP:20260421T115658
CREATED:20250118T174316Z
LAST-MODIFIED:20250201T192251Z
UID:20707647-1739014200-1739019600@iyiny.org
SUMMARY:Unlocking the Power of the Heart Chakra: An Introduction to Self-Love Practices
DESCRIPTION:During this month of LOVE\, we will focus on self-love and self-care practices. This session will focus on how to balance the 4th chakra\, allowing you to experience more love for yourself as well as others. You will tap into how to “follow your heart” in order to live with more openness and acceptance. \nThe heart chakra\, Anahata in Sanskrit\, means “unstuck.” It is the energetic center for unconditional love\, compassion\, kindness\, and forgiveness. It is located right next to the physical heart in the chest area. Balancing the energy of this chakra enables us to tap into its power and experience love in its purest form without any attachment or expectation. Therefore\, we become “unstruck” from negative emotions\, past traumas\, and limiting beliefs that may be holding us back. In this state of openness and vulnerability\, we can develop deeper connections with ourselves and others. \nDuring our time together\, you will move through some heart-centered yoga poses\, practice several related mudras\, and use some breathing techniques to enhance the heart-mind-body connection\, which is central to our well-being. You will visualize an intention and cultivate self-affirmations that you will take home with you to continue this journey of self-love. \nAll levels are welcome. \nThis session is an introduction in a series of an exploration of the 7 chakras.
URL:https://iyiny.org/event/unlocking-the-power-of-the-heart-chakra-an-introduction-to-self-love-practices/
LOCATION:Integral Yoga Institute New York\, 227 West 13th Street New York\, New York\, NY\, 10011\, United States
CATEGORIES:Chakras,Workshop
ATTACH;FMTTYPE=image/jpeg:https://iyiny.org/wp-content/uploads/2025/01/Unlocking-the-Power-of-the-Heart-Chakra-An-Introduction-to-Self-Love-Practices.jpg
END:VEVENT
END:VCALENDAR