BEGIN:VCALENDAR
VERSION:2.0
PRODID:-//Integral Yoga Institute - New York - ECPv6.15.20//NONSGML v1.0//EN
CALSCALE:GREGORIAN
METHOD:PUBLISH
X-WR-CALNAME:Integral Yoga Institute - New York
X-ORIGINAL-URL:https://iyiny.org
X-WR-CALDESC:Events for Integral Yoga Institute - New York
REFRESH-INTERVAL;VALUE=DURATION:PT1H
X-Robots-Tag:noindex
X-PUBLISHED-TTL:PT1H
BEGIN:VTIMEZONE
TZID:America/New_York
BEGIN:DAYLIGHT
TZOFFSETFROM:-0500
TZOFFSETTO:-0400
TZNAME:EDT
DTSTART:20240310T070000
END:DAYLIGHT
BEGIN:STANDARD
TZOFFSETFROM:-0400
TZOFFSETTO:-0500
TZNAME:EST
DTSTART:20241103T060000
END:STANDARD
BEGIN:DAYLIGHT
TZOFFSETFROM:-0500
TZOFFSETTO:-0400
TZNAME:EDT
DTSTART:20250309T070000
END:DAYLIGHT
BEGIN:STANDARD
TZOFFSETFROM:-0400
TZOFFSETTO:-0500
TZNAME:EST
DTSTART:20251102T060000
END:STANDARD
BEGIN:DAYLIGHT
TZOFFSETFROM:-0500
TZOFFSETTO:-0400
TZNAME:EDT
DTSTART:20260308T070000
END:DAYLIGHT
BEGIN:STANDARD
TZOFFSETFROM:-0400
TZOFFSETTO:-0500
TZNAME:EST
DTSTART:20261101T060000
END:STANDARD
END:VTIMEZONE
BEGIN:VEVENT
DTSTART;TZID=America/New_York:20250222T100000
DTEND;TZID=America/New_York:20250222T113000
DTSTAMP:20260421T113336
CREATED:20250118T203147Z
LAST-MODIFIED:20250220T144413Z
UID:20707719-1740218400-1740223800@iyiny.org
SUMMARY:NeuroGraphica® Mindful Drawing: The Five Algorithms Journey
DESCRIPTION:Join us for a transformative 5-week NeuroGraphica® Drawing series\, designed to unlock creativity\, reduce stress\, and cultivate self-awareness. This unique method blends art\, mindfulness\, and neuroscience to help you navigate personal challenges\, gain clarity\, and tap into your subconscious mind. \nEach 90-minute session explores a different algorithm\, offering powerful tools for emotional balance\, self-reflection\, and personal growth. You can sign up for the full series to experience the journey in its entirety or drop in for individual sessions to explore specific techniques. \nIn the second session of the series\, we will explore a very powerful algorithm: Revealing Intention. This algorithm is magical in bringing calm and clarity\, it is the most meditative algorithm that also works wonders in revealing your inner knowing and helping you make a decision when you feel uncertain. \nWhat You’ll Learn:\n• The principles and techniques of NeuroGraphica® Drawing and how to apply them in your daily life.\n• Five distinct algorithms that address personal challenges\, boost creativity\, and enhance self-awareness.\n• Methods to use drawing as a tool for mindfulness\, stress reduction\, and finding clarity. \nBenefits of the Program:\n• Improved ability to manage stress and cultivate emotional balance.\n• Enhanced creativity and problem-solving skills by accessing your subconscious mind.\n• Greater clarity and insight into personal challenges and goals.\n• A practical\, artistic method to foster relaxation and mindfulness. \nProgram Goals:\n• Equip participants with a step-by-step understanding of NeuroGraphica® Drawing techniques.\n• Provide a structured approach to exploring and resolving life’s challenges through art.\n• Foster a supportive environment where participants can share experiences\, reflect on insights\, and celebrate their creativity. \nCourse Structure:\nEach 90-minute session will include:\n1. Introduction: Explanation of the week’s algorithm and its purpose.\n2. Guided Drawing: Step-by-step practice of the algorithm applied to a personal topic or challenge.\n3. Reflection: Group discussion or journaling to gain clarity and integrate the session’s insights. \nWhat You’ll Need:\n• White paper (8.5” x 11” or heavier)\n• Pen and black Sharpie markers (medium thickness)\n• Colored pencils or highlighters\n• Optional: Sketchbook or journal \nThis hybrid program offers the rare opportunity to engage in NeuroGraphica® Drawing in person\, right here in New York City. Whether you’re new to this practice or seeking to deepen your skills\, Integral Yoga New York is proud to be a pioneer in bringing this unique method of mind-body transformation to our community.
URL:https://iyiny.org/event/neurographica-mindful-drawing-the-five-algorithms-journey-2/
LOCATION:Integral Yoga Institute New York\, 227 West 13th Street New York\, New York\, NY\, 10011\, United States
CATEGORIES:Mindful Drawing,Workshop
ATTACH;FMTTYPE=image/jpeg:https://iyiny.org/wp-content/uploads/2024/11/Draw-It-Out-With-Nadia-Neurographic-Drawing-To-Reduce-Stress-And-Gain-Clarity.jpg
END:VEVENT
END:VCALENDAR