BEGIN:VCALENDAR
VERSION:2.0
PRODID:-//Integral Yoga Institute - New York - ECPv6.15.20//NONSGML v1.0//EN
CALSCALE:GREGORIAN
METHOD:PUBLISH
X-WR-CALNAME:Integral Yoga Institute - New York
X-ORIGINAL-URL:https://iyiny.org
X-WR-CALDESC:Events for Integral Yoga Institute - New York
REFRESH-INTERVAL;VALUE=DURATION:PT1H
X-Robots-Tag:noindex
X-PUBLISHED-TTL:PT1H
BEGIN:VTIMEZONE
TZID:America/New_York
BEGIN:DAYLIGHT
TZOFFSETFROM:-0500
TZOFFSETTO:-0400
TZNAME:EDT
DTSTART:20240310T070000
END:DAYLIGHT
BEGIN:STANDARD
TZOFFSETFROM:-0400
TZOFFSETTO:-0500
TZNAME:EST
DTSTART:20241103T060000
END:STANDARD
BEGIN:DAYLIGHT
TZOFFSETFROM:-0500
TZOFFSETTO:-0400
TZNAME:EDT
DTSTART:20250309T070000
END:DAYLIGHT
BEGIN:STANDARD
TZOFFSETFROM:-0400
TZOFFSETTO:-0500
TZNAME:EST
DTSTART:20251102T060000
END:STANDARD
BEGIN:DAYLIGHT
TZOFFSETFROM:-0500
TZOFFSETTO:-0400
TZNAME:EDT
DTSTART:20260308T070000
END:DAYLIGHT
BEGIN:STANDARD
TZOFFSETFROM:-0400
TZOFFSETTO:-0500
TZNAME:EST
DTSTART:20261101T060000
END:STANDARD
END:VTIMEZONE
BEGIN:VEVENT
DTSTART;TZID=America/New_York:20250412T100000
DTEND;TZID=America/New_York:20250412T113000
DTSTAMP:20260425T062704
CREATED:20250402T211113Z
LAST-MODIFIED:20250403T233236Z
UID:20708767-1744452000-1744457400@iyiny.org
SUMMARY:NeuroGraphica: Harmonizing Mind & Spirit Through Creative Flow
DESCRIPTION:Discover the transformative power of NeuroGraphica\, a unique drawing method that harmonizes your mind and spirit through creative flow. \nIn this beginner-friendly workshop\, designed for the Integral Yoga community\, you’ll learn how to:\n\nUnlock inner peace and reduce stress by engaging in mindful\, intuitive drawing.\nTransform limiting patterns and cultivate positive states of being.\nConnect with your inner self and enhance your sense of well-being.\nExplore the therapeutic potential of art as a tool for personal growth.\n\nMeet the Presenter\n\nNeuroGraphica’s gentle\, flowing lines and organic shapes create a meditative experience\, allowing you to release tension and access your creative potential. Whether you’re seeking to deepen your meditation practice\, cultivate emotional balance\, or simply explore a new form of self-expression\, this workshop offers a nurturing space for your journey. Join us at the Integral Yoga Institute to experience the calming and transformative effects of NeuroGraphica\, and discover a new way to harmonize your mind\, body\, and spirit. \nWhat You’ll Need:\n\nWhite paper (8.5” x 11” or heavier)\nPen and black Sharpie markers (medium thickness)\nColored pencils or highlighters\nOptional: Sketchbook or journal\n\nThis an online program offers a rare opportunity to engage in NeuroGraphica® Drawing right here at Integral Yoga New York. Whether you are new to this practice or looking to deepen your skills\, Integral Yoga New York is proud to be a pioneer in bringing this unique method of mind-body transformation to our community.
URL:https://iyiny.org/event/neurographica-harmonizing-mind-spirit-through-creative-flow/
LOCATION:Integral Yoga Institute New York\, 227 West 13th Street New York\, New York\, NY\, 10011\, United States
CATEGORIES:Mindful Drawing,Workshop
ATTACH;FMTTYPE=image/jpeg:https://iyiny.org/wp-content/uploads/2025/04/NeuroGraphica-Harmonizing-Mind-Spirit-Through-Creative-Flow.jpg
ORGANIZER;CN="Integral Yoga Institute New York":MAILTO:info@iyiny.org
END:VEVENT
END:VCALENDAR