BEGIN:VCALENDAR
VERSION:2.0
PRODID:-//Integral Yoga Institute - New York - ECPv6.15.20//NONSGML v1.0//EN
CALSCALE:GREGORIAN
METHOD:PUBLISH
X-WR-CALNAME:Integral Yoga Institute - New York
X-ORIGINAL-URL:https://iyiny.org
X-WR-CALDESC:Events for Integral Yoga Institute - New York
REFRESH-INTERVAL;VALUE=DURATION:PT1H
X-Robots-Tag:noindex
X-PUBLISHED-TTL:PT1H
BEGIN:VTIMEZONE
TZID:America/New_York
BEGIN:DAYLIGHT
TZOFFSETFROM:-0500
TZOFFSETTO:-0400
TZNAME:EDT
DTSTART:20240310T070000
END:DAYLIGHT
BEGIN:STANDARD
TZOFFSETFROM:-0400
TZOFFSETTO:-0500
TZNAME:EST
DTSTART:20241103T060000
END:STANDARD
BEGIN:DAYLIGHT
TZOFFSETFROM:-0500
TZOFFSETTO:-0400
TZNAME:EDT
DTSTART:20250309T070000
END:DAYLIGHT
BEGIN:STANDARD
TZOFFSETFROM:-0400
TZOFFSETTO:-0500
TZNAME:EST
DTSTART:20251102T060000
END:STANDARD
BEGIN:DAYLIGHT
TZOFFSETFROM:-0500
TZOFFSETTO:-0400
TZNAME:EDT
DTSTART:20260308T070000
END:DAYLIGHT
BEGIN:STANDARD
TZOFFSETFROM:-0400
TZOFFSETTO:-0500
TZNAME:EST
DTSTART:20261101T060000
END:STANDARD
END:VTIMEZONE
BEGIN:VEVENT
DTSTART;TZID=America/New_York:20250907T130000
DTEND;TZID=America/New_York:20250907T143000
DTSTAMP:20260421T044119
CREATED:20250826T155038Z
LAST-MODIFIED:20250903T014754Z
UID:20709738-1757250000-1757255400@iyiny.org
SUMMARY:Meditation and Inspiration: Harmonious Living with Pancha Boothangal (Five Elements)
DESCRIPTION:We welcome a very special guest and longtime friend of Integral Yoga Swami Maruthachalam. Join us in his powerful\, yet peaceful presence for a guided meditation and inspirational talk on harmonious living with Pancha Boothangal. Pancha Boothangal (or Pancha Bhuta) refers to the five fundamental elements of existence in ancient Indian philosophies: Earth\, Water\, Fire\, Air\, and Space (or Ether). These elements constitute everything in the universe\, including our bodies and minds. Managing these elements in your body can maximize harmony in your life. There will be time for Q&A.
URL:https://iyiny.org/event/meditation-and-inspiration-harmonious-living-with-pancha-boothangal-five-elements/
LOCATION:Integral Yoga Institute New York\, 227 West 13th Street New York\, New York\, NY\, 10011\, United States
CATEGORIES:Meditation,Workshop
ATTACH;FMTTYPE=image/jpeg:https://iyiny.org/wp-content/uploads/2025/08/Meditation-and-Inspiration-Harmonious-Living-with-Pancha-Boothangal-Five-Elements.jpg
ORGANIZER;CN="Integral Yoga Institute New York":MAILTO:info@iyiny.org
END:VEVENT
END:VCALENDAR