BEGIN:VCALENDAR
VERSION:2.0
PRODID:-//Integral Yoga Institute - New York - ECPv6.15.20//NONSGML v1.0//EN
CALSCALE:GREGORIAN
METHOD:PUBLISH
X-WR-CALNAME:Integral Yoga Institute - New York
X-ORIGINAL-URL:https://iyiny.org
X-WR-CALDESC:Events for Integral Yoga Institute - New York
REFRESH-INTERVAL;VALUE=DURATION:PT1H
X-Robots-Tag:noindex
X-PUBLISHED-TTL:PT1H
BEGIN:VTIMEZONE
TZID:America/New_York
BEGIN:DAYLIGHT
TZOFFSETFROM:-0500
TZOFFSETTO:-0400
TZNAME:EDT
DTSTART:20240310T070000
END:DAYLIGHT
BEGIN:STANDARD
TZOFFSETFROM:-0400
TZOFFSETTO:-0500
TZNAME:EST
DTSTART:20241103T060000
END:STANDARD
BEGIN:DAYLIGHT
TZOFFSETFROM:-0500
TZOFFSETTO:-0400
TZNAME:EDT
DTSTART:20250309T070000
END:DAYLIGHT
BEGIN:STANDARD
TZOFFSETFROM:-0400
TZOFFSETTO:-0500
TZNAME:EST
DTSTART:20251102T060000
END:STANDARD
BEGIN:DAYLIGHT
TZOFFSETFROM:-0500
TZOFFSETTO:-0400
TZNAME:EDT
DTSTART:20260308T070000
END:DAYLIGHT
BEGIN:STANDARD
TZOFFSETFROM:-0400
TZOFFSETTO:-0500
TZNAME:EST
DTSTART:20261101T060000
END:STANDARD
END:VTIMEZONE
BEGIN:VEVENT
DTSTART;TZID=America/New_York:20250412T100000
DTEND;TZID=America/New_York:20250426T113000
DTSTAMP:20260421T084553
CREATED:20250303T223325Z
LAST-MODIFIED:20250409T194322Z
UID:20708577-1744452000-1745667000@iyiny.org
SUMMARY:How to Meditate: A Step-by-Step Guide (3-Session Series)
DESCRIPTION:A practical approach to developing a meditation practice\, covering preparation\, posture\, and different styles of meditation. \nSession Schedule: \n\n10:00 AM on Sat\, April 12\, 2025\n10:00 AM on Sat\, April 19\, 2025\n10:00 AM on Sat\, April 26\, 2025\n\nWhat Participants Will Learn:\n\nHow to prepare the body and mind for meditation\nProper posture\, breath awareness\, and relaxation techniques\nDifferent meditation styles\, including mantra\, breath-based\, and mindfulness practices\nHow to establish a consistent and sustainable meditation practice\n\nBy the end of this series\, participants will:\n\nDevelop a foundational understanding of meditation and its benefits\nGain confidence in practicing meditation independently\nLearn techniques to calm the mind and cultivate inner peace\nExperience a deeper connection to their spiritual practice
URL:https://iyiny.org/event/how-to-meditate-a-step-by-step-guide-3-session-series/
LOCATION:Integral Yoga Institute New York\, 227 West 13th Street New York\, New York\, NY\, 10011\, United States
CATEGORIES:Multi-Day Course,Yoga
ATTACH;FMTTYPE=image/jpeg:https://iyiny.org/wp-content/uploads/2025/03/How-to-Meditate-A-Step-by-Step-Guide-3-Session-Series.jpg
END:VEVENT
END:VCALENDAR