BEGIN:VCALENDAR
VERSION:2.0
PRODID:-//Integral Yoga Institute - New York - ECPv6.15.20//NONSGML v1.0//EN
CALSCALE:GREGORIAN
METHOD:PUBLISH
X-WR-CALNAME:Integral Yoga Institute - New York
X-ORIGINAL-URL:https://iyiny.org
X-WR-CALDESC:Events for Integral Yoga Institute - New York
REFRESH-INTERVAL;VALUE=DURATION:PT1H
X-Robots-Tag:noindex
X-PUBLISHED-TTL:PT1H
BEGIN:VTIMEZONE
TZID:America/New_York
BEGIN:DAYLIGHT
TZOFFSETFROM:-0500
TZOFFSETTO:-0400
TZNAME:EDT
DTSTART:20240310T070000
END:DAYLIGHT
BEGIN:STANDARD
TZOFFSETFROM:-0400
TZOFFSETTO:-0500
TZNAME:EST
DTSTART:20241103T060000
END:STANDARD
BEGIN:DAYLIGHT
TZOFFSETFROM:-0500
TZOFFSETTO:-0400
TZNAME:EDT
DTSTART:20250309T070000
END:DAYLIGHT
BEGIN:STANDARD
TZOFFSETFROM:-0400
TZOFFSETTO:-0500
TZNAME:EST
DTSTART:20251102T060000
END:STANDARD
BEGIN:DAYLIGHT
TZOFFSETFROM:-0500
TZOFFSETTO:-0400
TZNAME:EDT
DTSTART:20260308T070000
END:DAYLIGHT
BEGIN:STANDARD
TZOFFSETFROM:-0400
TZOFFSETTO:-0500
TZNAME:EST
DTSTART:20261101T060000
END:STANDARD
END:VTIMEZONE
BEGIN:VEVENT
DTSTART;TZID=America/New_York:20250405T180000
DTEND;TZID=America/New_York:20250405T193000
DTSTAMP:20260423T061111
CREATED:20250319T133758Z
LAST-MODIFIED:20250404T211542Z
UID:20708722-1743876000-1743881400@iyiny.org
SUMMARY:Bhakti Yoga-The Path of Devotion
DESCRIPTION:The world needs heart\, maybe more than ever. Bhakti Yoga teaches the art and science of reconnecting to our spiritual heart. The intellect is necessary for highlighting distinction and divisions; it needs to be balanced with the heart\, which highlights connection and non-separateness. No matter what religious or spiritual tradition you follow\, Bhakti will make the journey sweeter\, more enjoyable\, and swifter. If practiced with sincerity\, it can melt even the hardest and most stubborn ego. \nIn this workshop Swami Asokananda will present a slideshow exploring how to:\n\nForm a relationship with the Divine (Ishta Devata)\nDevelop our faith (sraddha) and surrender (Ishwara Pranadana)\nUse of the Divine Names (mantras) to elevate our consciousness\nExpand our love and express that love through service
URL:https://iyiny.org/event/bhakti-yoga-the-path-of-devotion/
LOCATION:Integral Yoga Institute New York\, 227 West 13th Street New York\, New York\, NY\, 10011\, United States
CATEGORIES:Sound & Kirtan,Workshop
ATTACH;FMTTYPE=image/jpeg:https://iyiny.org/wp-content/uploads/2025/03/Bhakti-Yoga-The-Path-of-Devotion-2025.jpg
END:VEVENT
END:VCALENDAR